BEGIN:VCALENDAR
VERSION:2.0
PRODID:-//162.241.218.94//NONSGML kigkonsult.se iCalcreator 2.26.9//
CALSCALE:GREGORIAN
METHOD:PUBLISH
X-FROM-URL:http://zenopencircle.org.au
X-WR-TIMEZONE:Australia/Sydney
BEGIN:VTIMEZONE
TZID:Australia/Sydney
X-LIC-LOCATION:Australia/Sydney
BEGIN:STANDARD
DTSTART:20210404T030000
TZOFFSETFROM:+1100
TZOFFSETTO:+1000
RDATE:20220403T030000
TZNAME:AEST
END:STANDARD
BEGIN:DAYLIGHT
DTSTART:20201004T020000
TZOFFSETFROM:+1000
TZOFFSETTO:+1100
RDATE:20211003T020000
TZNAME:AEDT
END:DAYLIGHT
END:VTIMEZONE
BEGIN:VEVENT
UID:ai1ec-3697@zenopencircle.org.au
DTSTAMP:20210224T134633Z
CATEGORIES;LANGUAGE=en-US:All Events\,Online Practice Events\,Practice Peri
 ods
CONTACT:Warren on gassho@zenopencircle.org.au
DESCRIPTION:A 50 day commitment to foster our practice together in the mids
 t of a changing world. Click here for full details and event registration.
DTSTART;VALUE=DATE:20201215
DTEND;VALUE=DATE:20210228
LOCATION:Right where you are! (ZOOM)
SEQUENCE:0
SUMMARY:The Big Summer Sit 2020-2021
URL:http://zenopencircle.org.au/event/the-big-summer-sit-2020-2021/
X-COST-TYPE:external
X-ALT-DESC;FMTTYPE=text/html:<!DOCTYPE HTML PUBLIC '-//W3C//DTD HTML 3.2//E
 N'>\\n<HTML>\\n<HEAD>\\n<TITLE></TITLE>\\n</HEAD>\\n<BODY><div id='et-boc'
  class='et-boc'>\n			\n		<div class='et-l et-l--post'>\n			<div class='et_builder_
 inner_content et_pb_gutters3'>\n		<p>A 50 day commitment to foster our pract
 ice together in the midst of a changing world. <a href='http://www.zenopen
 circle.org.au/bigsummersit2021'>Click here for full details and event regi
 stration.</a></p>\n\n		</div><!-- .et_builder_inner_content -->\n	</div><!-- 
 .et-l -->\n	\n			\n		</div><!-- #et-boc -->\n		</BODY></HTML>
X-COST:Free + Dana
END:VEVENT
BEGIN:VEVENT
UID:ai1ec-3705@zenopencircle.org.au
DTSTAMP:20210224T134633Z
CATEGORIES;LANGUAGE=en-US:All Events\,Online Practice Events\,Sangha Meetin
 gs
CONTACT:Warren on gassho@zenopencircle.org.au
DESCRIPTION:Please save this date for our first Sangha Meeting of 2021. Tim
 e and details to be confirmed.
DTSTART;VALUE=DATE:20210307
DTEND;VALUE=DATE:20210308
LOCATION:Right where you are! (ZOOM)
SEQUENCE:0
SUMMARY:Sangha Meeting
URL:http://zenopencircle.org.au/event/sangha-meeting/
X-COST-TYPE:free
X-ALT-DESC;FMTTYPE=text/html:<!DOCTYPE HTML PUBLIC '-//W3C//DTD HTML 3.2//E
 N'>\\n<HTML>\\n<HEAD>\\n<TITLE></TITLE>\\n</HEAD>\\n<BODY><div id='et-boc'
  class='et-boc'>\n			\n		<div class='et-l et-l--post'>\n			<div class='et_builder_
 inner_content et_pb_gutters3'>\n		<p>Please save this date for our first San
 gha Meeting of 2021. Time and details to be confirmed. </p>\n\n		</div><!-- 
 .et_builder_inner_content -->\n	</div><!-- .et-l -->\n	\n			\n		</div><!-- #et-bo
 c -->\n		</BODY></HTML>
END:VEVENT
BEGIN:VEVENT
UID:ai1ec-3706@zenopencircle.org.au
DTSTAMP:20210224T134633Z
CATEGORIES;LANGUAGE=en-US:All Events\,Online Practice Events
CONTACT:Warren on gassho@zenopencircle.org.au
DESCRIPTION:Now in it’s fourth year\, Taking Part in the Gathering is our o
 nline Zen group lead by Roshi Susan Murphy. Each term offers an opportunit
 y for deep practice. You can enroll at the beginning of each term. Click h
 ere for full details and registration…
DTSTART;VALUE=DATE:20210314
DTEND;VALUE=DATE:20210524
LOCATION:Right where you are! (ZOOM)
SEQUENCE:0
SUMMARY:Taking Part in the Gathering Term 1
URL:http://zenopencircle.org.au/event/taking-part-in-the-gathering-term-1/
X-COST-TYPE:free
X-ALT-DESC;FMTTYPE=text/html:<!DOCTYPE HTML PUBLIC '-//W3C//DTD HTML 3.2//E
 N'>\\n<HTML>\\n<HEAD>\\n<TITLE></TITLE>\\n</HEAD>\\n<BODY><div id='et-boc'
  class='et-boc'>\n			\n		<div class='et-l et-l--post'>\n			<div class='et_builder_
 inner_content et_pb_gutters3'>\n		<p>Now in it’s fourth year\, Taking Part i
 n the Gathering is our online Zen group lead by Roshi Susan Murphy. Each t
 erm offers an opportunity for deep practice. You can enroll at the beginni
 ng of each term. <a href='http://zenopencircle.org.au/onlinepracticegroup/
 '>Click here for full details and registration…</a></p>\n\n		</div><!-- .et_
 builder_inner_content -->\n	</div><!-- .et-l -->\n	\n			\n		</div><!-- #et-boc --
 >\n		</BODY></HTML>
X-COST:$60-$120 + Dana
END:VEVENT
BEGIN:VEVENT
UID:ai1ec-3716@zenopencircle.org.au
DTSTAMP:20210224T134633Z
CATEGORIES;LANGUAGE=en-US:All Events\,Online Practice Events\,Retreats/Sess
 hin
CONTACT:Warren on gassho@zenopencircle.org.au
DESCRIPTION:We invite you to join us for our Autumn Sesshin (Retreat): ‘To 
 Serve The Many Beings’. This retreat will take place online and is availab
 le for a sliding scale of fees to help ensure everyone can participate. Pl
 ease click here for full details.
DTSTART;VALUE=DATE:20210416
DTEND;VALUE=DATE:20210422
LOCATION:Right where you are! (ZOOM)
SEQUENCE:0
SUMMARY:Autumn Sesshin (Retreat): ‘To Serve The Many Beings’
URL:http://zenopencircle.org.au/event/autumn-sesshin-retreat/
X-COST-TYPE:free
X-ALT-DESC;FMTTYPE=text/html:<!DOCTYPE HTML PUBLIC '-//W3C//DTD HTML 3.2//E
 N'>\\n<HTML>\\n<HEAD>\\n<TITLE></TITLE>\\n</HEAD>\\n<BODY><div id='et-boc'
  class='et-boc'>\n			\n		<div class='et-l et-l--post'>\n			<div class='et_builder_
 inner_content et_pb_gutters3'>\n		<p>We invite you to join us for our Autumn
  Sesshin (Retreat): ‘To Serve The Many Beings’. This retreat will take pla
 ce online and is available for a sliding scale of fees to help ensure ever
 yone can participate. Please click here for full details.</p>\n\n		</div><!-
 - .et_builder_inner_content -->\n	</div><!-- .et-l -->\n	\n			\n		</div><!-- #et-
 boc -->\n		</BODY></HTML>
X-COST:TBA
END:VEVENT
BEGIN:VEVENT
UID:ai1ec-3717@zenopencircle.org.au
DTSTAMP:20210224T134633Z
CATEGORIES;LANGUAGE=en-US:All Events\,Online Practice Events\,Practice Peri
 ods
CONTACT:Warren on gassho@zenopencircle.org.au
DESCRIPTION:Our mid-year practice period. Details coming soon.
DTSTART;VALUE=DATE:20210526
DTEND;VALUE=DATE:20210912
LOCATION:Right where you are! (ZOOM)
SEQUENCE:0
SUMMARY:The Dawn Dojo
URL:http://zenopencircle.org.au/event/the-dawn-dojo/
X-COST-TYPE:free
X-ALT-DESC;FMTTYPE=text/html:<!DOCTYPE HTML PUBLIC '-//W3C//DTD HTML 3.2//E
 N'>\\n<HTML>\\n<HEAD>\\n<TITLE></TITLE>\\n</HEAD>\\n<BODY><div id='et-boc'
  class='et-boc'>\n			\n		<div class='et-l et-l--post'>\n			<div class='et_builder_
 inner_content et_pb_gutters3'>\n		<p>Our mid-year practice period. Details c
 oming soon.</p>\n\n		</div><!-- .et_builder_inner_content -->\n	</div><!-- .e
 t-l -->\n	\n			\n		</div><!-- #et-boc -->\n		</BODY></HTML>
X-COST:Free + Dana
END:VEVENT
BEGIN:VEVENT
UID:ai1ec-3724@zenopencircle.org.au
DTSTAMP:20210224T134633Z
CATEGORIES;LANGUAGE=en-US:All Events\,Online Practice Events\,Sangha Meetin
 gs
CONTACT:Warren on gassho@zenopencircle.org.au
DESCRIPTION:Please save this date for our second Sangha Meeting of 2021. Ti
 me and details to be confirmed.
DTSTART;VALUE=DATE:20210530
DTEND;VALUE=DATE:20210531
LOCATION:Right where you are! (ZOOM)
SEQUENCE:0
SUMMARY:Sangha Meeting
URL:http://zenopencircle.org.au/event/sangha-meeting-2/
X-COST-TYPE:free
X-ALT-DESC;FMTTYPE=text/html:<!DOCTYPE HTML PUBLIC '-//W3C//DTD HTML 3.2//E
 N'>\\n<HTML>\\n<HEAD>\\n<TITLE></TITLE>\\n</HEAD>\\n<BODY><div id='et-boc'
  class='et-boc'>\n			\n		<div class='et-l et-l--post'>\n			<div class='et_builder_
 inner_content et_pb_gutters3'>\n		<p>Please save this date for our second Sa
 ngha Meeting of 2021. Time and details to be confirmed.</p>\n\n		</div><!-- 
 .et_builder_inner_content -->\n	</div><!-- .et-l -->\n	\n			\n		</div><!-- #et-bo
 c -->\n		</BODY></HTML>
END:VEVENT
BEGIN:VEVENT
UID:ai1ec-3726@zenopencircle.org.au
DTSTAMP:20210224T134633Z
CATEGORIES;LANGUAGE=en-US:All Events\,Online Practice Events
CONTACT:Warren on gassho@zenopencircle.org.au
DESCRIPTION:Now in it’s fourth year\, Taking Part in the Gathering is our o
 nline Zen group lead by Roshi Susan Murphy. Each term offers an opportunit
 y for deep practice. You can enroll at the beginning of each term. Click h
 ere for full details and registration…
DTSTART;VALUE=DATE:20210613
DTEND;VALUE=DATE:20210823
LOCATION:Right where you are! (ZOOM)
SEQUENCE:0
SUMMARY:Taking Part in the Gathering Term 2
URL:http://zenopencircle.org.au/event/taking-part-in-the-gathering-term-2/
X-COST-TYPE:free
X-ALT-DESC;FMTTYPE=text/html:<!DOCTYPE HTML PUBLIC '-//W3C//DTD HTML 3.2//E
 N'>\\n<HTML>\\n<HEAD>\\n<TITLE></TITLE>\\n</HEAD>\\n<BODY><div id='et-boc'
  class='et-boc'>\n			\n		<div class='et-l et-l--post'>\n			<div class='et_builder_
 inner_content et_pb_gutters3'>\n		<p>Now in it’s fourth year\, Taking Part i
 n the Gathering is our online Zen group lead by Roshi Susan Murphy. Each t
 erm offers an opportunity for deep practice. You can enroll at the beginni
 ng of each term. <a href='http://zenopencircle.org.au/onlinepracticegroup/
 '>Click here for full details and registration…</a></p>\n\n		</div><!-- .et_
 builder_inner_content -->\n	</div><!-- .et-l -->\n	\n			\n		</div><!-- #et-boc --
 >\n		</BODY></HTML>
X-COST:$60-$120 + Dana
END:VEVENT
BEGIN:VEVENT
UID:ai1ec-3738@zenopencircle.org.au
DTSTAMP:20210224T134633Z
CATEGORIES;LANGUAGE=en-US:All Events\,Online Practice Events\,Retreats/Sess
 hin
CONTACT:Warren on gassho@zenopencircle.org.au
DESCRIPTION:Please join us for this 3-day winter zazenkai. Full details com
 ing soon.
DTSTART;VALUE=DATE:20210830
DTEND;VALUE=DATE:20210902
LOCATION:TBA
SEQUENCE:0
SUMMARY:3 Day Winter Zazenkai
URL:http://zenopencircle.org.au/event/3-day-winter-zazenkai/
X-COST-TYPE:free
X-ALT-DESC;FMTTYPE=text/html:<!DOCTYPE HTML PUBLIC '-//W3C//DTD HTML 3.2//E
 N'>\\n<HTML>\\n<HEAD>\\n<TITLE></TITLE>\\n</HEAD>\\n<BODY><div id='et-boc'
  class='et-boc'>\n			\n		<div class='et-l et-l--post'>\n			<div class='et_builder_
 inner_content et_pb_gutters3'>\n		<p>Please join us for this 3-day winter za
 zenkai. Full details coming soon.</p>\n\n		</div><!-- .et_builder_inner_cont
 ent -->\n	</div><!-- .et-l -->\n	\n			\n		</div><!-- #et-boc -->\n		</BODY></HTML>
X-COST:TBA
END:VEVENT
BEGIN:VEVENT
UID:ai1ec-3740@zenopencircle.org.au
DTSTAMP:20210224T134633Z
CATEGORIES;LANGUAGE=en-US:All Events\,Online Practice Events
CONTACT:Warren on gassho@zenopencircle.org.au
DESCRIPTION:Our third and final term of Taking Part in the Gathering for 20
 21. Now in it’s fourth year\, Taking Part in the Gathering is our online Z
 en group lead by Roshi Susan Murphy. Each term offers an opportunity for d
 eep practice. You can enroll at the beginning of each term. Click here for
  full details and registration…
DTSTART;VALUE=DATE:20210912
DTEND;VALUE=DATE:20211129
LOCATION:Right where you are! (ZOOM)
SEQUENCE:0
SUMMARY:Taking Part in the Gathering Term 3
URL:http://zenopencircle.org.au/event/taking-part-in-the-gathering-term-3/
X-COST-TYPE:free
X-ALT-DESC;FMTTYPE=text/html:<!DOCTYPE HTML PUBLIC '-//W3C//DTD HTML 3.2//E
 N'>\\n<HTML>\\n<HEAD>\\n<TITLE></TITLE>\\n</HEAD>\\n<BODY><div id='et-boc'
  class='et-boc'>\n			\n		<div class='et-l et-l--post'>\n			<div class='et_builder_
 inner_content et_pb_gutters3'>\n		<p>Our third and final term of Taking Part
  in the Gathering for 2021. Now in it’s fourth year\, Taking Part in the G
 athering is our online Zen group lead by Roshi Susan Murphy. Each term off
 ers an opportunity for deep practice. You can enroll at the beginning of e
 ach term. <a href='http://zenopencircle.org.au/onlinepracticegroup/'>Click
  here for full details and registration…</a></p>\n\n		</div><!-- .et_builder
 _inner_content -->\n	</div><!-- .et-l -->\n	\n			\n		</div><!-- #et-boc -->\n		</BO
 DY></HTML>
X-COST:$60-$120 + Dana
END:VEVENT
BEGIN:VEVENT
UID:ai1ec-3748@zenopencircle.org.au
DTSTAMP:20210224T134633Z
CATEGORIES;LANGUAGE=en-US:All Events\,Retreats/Sesshin
CONTACT:Warren on gassho@zenopencircle.org.au
DESCRIPTION:Please join us for our Spring Sesshin. We hope that this retrea
 t may return to Cloud Mountain (NSW) in 2021. Watch this space for further
  details.
DTSTART;VALUE=DATE:20211001
DTEND;VALUE=DATE:20211009
LOCATION:TBA
SEQUENCE:0
SUMMARY:Spring Sesshin (Retreat)
URL:http://zenopencircle.org.au/event/spring-sesshin-retreat/
X-COST-TYPE:free
X-ALT-DESC;FMTTYPE=text/html:<!DOCTYPE HTML PUBLIC '-//W3C//DTD HTML 3.2//E
 N'>\\n<HTML>\\n<HEAD>\\n<TITLE></TITLE>\\n</HEAD>\\n<BODY><div id='et-boc'
  class='et-boc'>\n			\n		<div class='et-l et-l--post'>\n			<div class='et_builder_
 inner_content et_pb_gutters3'>\n		<p>Please join us for our Spring Sesshin. 
 We hope that this retreat may return to Cloud Mountain (NSW) in 2021. Watc
 h this space for further details.</p>\n\n		</div><!-- .et_builder_inner_cont
 ent -->\n	</div><!-- .et-l -->\n	\n			\n		</div><!-- #et-boc -->\n		</BODY></HTML>
X-COST:TBA
END:VEVENT
BEGIN:VEVENT
UID:ai1ec-3749@zenopencircle.org.au
DTSTAMP:20210224T134633Z
CATEGORIES;LANGUAGE=en-US:All Events\,Online Practice Events\,Sangha Meetin
 gs
CONTACT:Warren on gassho@zenopencircle.org.au
DESCRIPTION:Please save this date for our third Sangha Meeting of 2021. Thi
 s meeting will incorporate our 2021 AGM. Time and details to be confirmed.
DTSTART;VALUE=DATE:20211205
DTEND;VALUE=DATE:20211206
LOCATION:Right where you are! (ZOOM)
SEQUENCE:0
SUMMARY:Sangha Meeting & AGM
URL:http://zenopencircle.org.au/event/sangha-meeting-agm/
X-COST-TYPE:free
X-ALT-DESC;FMTTYPE=text/html:<!DOCTYPE HTML PUBLIC '-//W3C//DTD HTML 3.2//E
 N'>\\n<HTML>\\n<HEAD>\\n<TITLE></TITLE>\\n</HEAD>\\n<BODY><div id='et-boc'
  class='et-boc'>\n			\n		<div class='et-l et-l--post'>\n			<div class='et_builder_
 inner_content et_pb_gutters3'>\n		<p>Please save this date for our third San
 gha Meeting of 2021. This meeting will incorporate our 2021 AGM. Time and 
 details to be confirmed.</p>\n\n		</div><!-- .et_builder_inner_content -->\n
 	</div><!-- .et-l -->\n	\n			\n		</div><!-- #et-boc -->\n		</BODY></HTML>
END:VEVENT
END:VCALENDAR
